BEGIN:VCALENDAR
VERSION:2.0
PRODID:icalendar-ruby
CALSCALE:GREGORIAN
METHOD:PUBLISH
BEGIN:VEVENT
DTSTAMP:20260420T122334Z
UID:d525d0ed-16cf-4c74-bfb6-2fe64f4f7fab
DTSTART;VALUE=DATE:20140405
DTEND;VALUE=DATE:20140405
DESCRIPTION:Fernley BMX
LOCATION:212 Mull Ln  Fernley NV 89408 USA
SUMMARY:Standard Single
URL:/site/bmx_races/88706
END:VEVENT
END:VCALENDAR
