BEGIN:VCALENDAR
VERSION:2.0
PRODID:icalendar-ruby
CALSCALE:GREGORIAN
METHOD:PUBLISH
BEGIN:VEVENT
DTSTAMP:20260424T100707Z
UID:4ea2a162-3d69-450b-9ed8-1d7ee883e414
DTSTART;VALUE=DATE:20140104
DTEND;VALUE=DATE:20140104
DESCRIPTION:Sports Park BMX
LOCATION:6901 N Casa Grande Highway  Tucson AZ 85743 USA
SUMMARY:Standard Single
URL:/site/bmx_races/88858
END:VEVENT
END:VCALENDAR
