BEGIN:VCALENDAR
VERSION:2.0
PRODID:icalendar-ruby
CALSCALE:GREGORIAN
METHOD:PUBLISH
BEGIN:VEVENT
DTSTAMP:20260422T081728Z
UID:65cae842-3174-4cee-8a59-7a712f6b8431
DTSTART;VALUE=DATE:20140218
DTEND;VALUE=DATE:20140218
DESCRIPTION:Apple Valley BMX Moto Park
LOCATION:24320 Highway 18  Apple Valley CA 92307 USA
SUMMARY:Standard Single
URL:/site/bmx_races/88915
END:VEVENT
END:VCALENDAR
