BEGIN:VCALENDAR
VERSION:2.0
PRODID:icalendar-ruby
CALSCALE:GREGORIAN
METHOD:PUBLISH
BEGIN:VEVENT
DTSTAMP:20260423T004314Z
UID:b8f377c3-75f1-4ec7-8b7e-cc898d04dff7
DTSTART;VALUE=DATE:20130405
DTEND;VALUE=DATE:20130405
DESCRIPTION:Apple Valley BMX Moto Park
LOCATION:24320 Highway 18  Apple Valley CA 92307 USA
SUMMARY:Standard Single
URL:/site/bmx_races/89040
END:VEVENT
END:VCALENDAR
