BEGIN:VCALENDAR
VERSION:2.0
PRODID:icalendar-ruby
CALSCALE:GREGORIAN
METHOD:PUBLISH
BEGIN:VEVENT
DTSTAMP:20260423T112733Z
UID:7ce8db45-a34e-4072-ac09-791f8e953788
DTSTART;VALUE=DATE:20130322
DTEND;VALUE=DATE:20130322
DESCRIPTION:San Diego BMX
LOCATION:3170 Armstrong Street Behind Kearny Mesa Recreation Center San Die
 go CA 92111 USA
SUMMARY:Standard Single
URL:/site/bmx_races/89229
END:VEVENT
END:VCALENDAR
