BEGIN:VCALENDAR
VERSION:2.0
PRODID:icalendar-ruby
CALSCALE:GREGORIAN
METHOD:PUBLISH
BEGIN:VEVENT
DTSTAMP:20260422T065420Z
UID:11c06702-e1b5-4fdc-b713-90100c903690
DTSTART;VALUE=DATE:20130215
DTEND;VALUE=DATE:20130215
DESCRIPTION:Colorado River BMX
LOCATION:2230 Highland Dr  Bullhead City AZ 86442 USA
SUMMARY:Standard Single
URL:/site/bmx_races/89408
END:VEVENT
END:VCALENDAR
