BEGIN:VCALENDAR
VERSION:2.0
PRODID:icalendar-ruby
CALSCALE:GREGORIAN
METHOD:PUBLISH
BEGIN:VEVENT
DTSTAMP:20260421T103227Z
UID:391b1ba1-c476-42ad-8467-d1373f43d5ea
DTSTART;VALUE=DATE:20130206
DTEND;VALUE=DATE:20130206
DESCRIPTION:Oak Creek BMX
LOCATION:648 Riverside Ave  Roseville CA 95678 USA
SUMMARY:Standard Single
URL:/site/bmx_races/89934
END:VEVENT
END:VCALENDAR
