BEGIN:VCALENDAR
VERSION:2.0
PRODID:icalendar-ruby
CALSCALE:GREGORIAN
METHOD:PUBLISH
BEGIN:VEVENT
DTSTAMP:20260424T191758Z
UID:be0f597d-c832-42e1-8fce-e8c7b520b148
DTSTART;VALUE=DATE:20130217
DTEND;VALUE=DATE:20130217
DESCRIPTION:Sand Springs BMX
LOCATION:2600 S River City Park Rd  Sand Springs OK 74063 USA
SUMMARY:Standard Single
URL:/site/bmx_races/89950
END:VEVENT
END:VCALENDAR
