BEGIN:VCALENDAR
VERSION:2.0
PRODID:icalendar-ruby
CALSCALE:GREGORIAN
METHOD:PUBLISH
BEGIN:VEVENT
DTSTAMP:20260424T100647Z
UID:1ed1ab60-9a09-457c-891f-3a3875601971
DTSTART;VALUE=DATE:20130407
DTEND;VALUE=DATE:20130407
DESCRIPTION:Seatac BMX
LOCATION:1855 S 136th St  Sea Tac WA 98168 USA
SUMMARY:Standard Single
URL:/site/bmx_races/90149
END:VEVENT
END:VCALENDAR
