BEGIN:VCALENDAR
VERSION:2.0
PRODID:icalendar-ruby
CALSCALE:GREGORIAN
METHOD:PUBLISH
BEGIN:VEVENT
DTSTAMP:20260419T142348Z
UID:8d7644e9-d00c-4c71-9c40-d433a24302f3
DTSTART;VALUE=DATE:20120407
DTEND;VALUE=DATE:20120407
DESCRIPTION:Sandy Ridge BMX
LOCATION:1200 Keys Ferry Rd  McDonough GA 30253 USA
SUMMARY:Standard Double
URL:/site/bmx_races/90539
END:VEVENT
END:VCALENDAR
