BEGIN:VCALENDAR
VERSION:2.0
PRODID:icalendar-ruby
CALSCALE:GREGORIAN
METHOD:PUBLISH
BEGIN:VEVENT
DTSTAMP:20260423T121505Z
UID:b6e990f7-e839-4cf6-b57d-3decfb8d0914
DTSTART;VALUE=DATE:20120904
DTEND;VALUE=DATE:20120904
DESCRIPTION:Apple Valley BMX Moto Park
LOCATION:24320 Highway 18  Apple Valley CA 92307 USA
SUMMARY:Standard Single
URL:/site/bmx_races/90981
END:VEVENT
END:VCALENDAR
