BEGIN:VCALENDAR
VERSION:2.0
PRODID:icalendar-ruby
CALSCALE:GREGORIAN
METHOD:PUBLISH
BEGIN:VEVENT
DTSTAMP:20260425T202256Z
UID:b75bf655-8716-47b0-9e7a-1837290c7193
DTSTART;VALUE=DATE:20120217
DTEND;VALUE=DATE:20120217
DESCRIPTION:Elkhorn BMX
LOCATION:848 Elkhorn Blvd  Rio Linda CA 95673 USA
SUMMARY:Standard Single
URL:/site/bmx_races/90984
END:VEVENT
END:VCALENDAR
