BEGIN:VCALENDAR
VERSION:2.0
PRODID:icalendar-ruby
CALSCALE:GREGORIAN
METHOD:PUBLISH
BEGIN:VEVENT
DTSTAMP:20260424T073943Z
UID:90dfdb47-8dd9-4b15-bbc8-eba4355d64d5
DTSTART;VALUE=DATE:20120201
DTEND;VALUE=DATE:20120201
DESCRIPTION:San Diego BMX
LOCATION:3170 Armstrong Street Behind Kearny Mesa Recreation Center San Die
 go CA 92111 USA
SUMMARY:Standard Single
URL:/site/bmx_races/91040
END:VEVENT
END:VCALENDAR
