BEGIN:VCALENDAR
VERSION:2.0
PRODID:icalendar-ruby
CALSCALE:GREGORIAN
METHOD:PUBLISH
BEGIN:VEVENT
DTSTAMP:20260425T135956Z
UID:b8df1542-ddca-4116-bd5b-fe742cc69577
DTSTART;VALUE=DATE:20120708
DTEND;VALUE=DATE:20120708
DESCRIPTION:Redwood Empire BMX
LOCATION:201 Vance Ave  Samoa CA 95564 USA
SUMMARY:Standard Single
URL:/site/bmx_races/91133
END:VEVENT
END:VCALENDAR
