BEGIN:VCALENDAR
VERSION:2.0
PRODID:icalendar-ruby
CALSCALE:GREGORIAN
METHOD:PUBLISH
BEGIN:VEVENT
DTSTAMP:20260423T224207Z
UID:9e6b4900-295d-48f0-a47f-a74875d4b587
DTSTART;VALUE=DATE:20120822
DTEND;VALUE=DATE:20120822
DESCRIPTION:San Diego BMX
LOCATION:3170 Armstrong Street Behind Kearny Mesa Recreation Center San Die
 go CA 92111 USA
SUMMARY:Standard Single
URL:/site/bmx_races/91861
END:VEVENT
END:VCALENDAR
