BEGIN:VCALENDAR
VERSION:2.0
PRODID:icalendar-ruby
CALSCALE:GREGORIAN
METHOD:PUBLISH
BEGIN:VEVENT
DTSTAMP:20260424T154242Z
UID:4d2757f7-8b60-4cdd-b2db-75787e4e3da6
DTSTART;VALUE=DATE:20120703
DTEND;VALUE=DATE:20120703
DESCRIPTION:Rock City BMX
LOCATION:3300 10 Mile Road  Rockford MI 49341 USA
SUMMARY:Standard Single
URL:/site/bmx_races/91896
END:VEVENT
END:VCALENDAR
