BEGIN:VCALENDAR
VERSION:2.0
PRODID:icalendar-ruby
CALSCALE:GREGORIAN
METHOD:PUBLISH
BEGIN:VEVENT
DTSTAMP:20260426T042410Z
UID:5435b74d-746a-419d-baef-8e2a18677975
DTSTART;VALUE=DATE:20120407
DTEND;VALUE=DATE:20120407
DESCRIPTION:High Springs BMX
LOCATION:  High Springs FL 32028 USA
SUMMARY:Standard Single
URL:/site/bmx_races/92144
END:VEVENT
END:VCALENDAR
