BEGIN:VCALENDAR
VERSION:2.0
PRODID:icalendar-ruby
CALSCALE:GREGORIAN
METHOD:PUBLISH
BEGIN:VEVENT
DTSTAMP:20260423T004312Z
UID:9c996c7b-7fbf-49c2-93f9-ffc2cf1de093
DTSTART;VALUE=DATE:20120330
DTEND;VALUE=DATE:20120330
DESCRIPTION:Colorado River BMX
LOCATION:2230 Highland Dr  Bullhead City AZ 86442 USA
SUMMARY:Standard Single
URL:/site/bmx_races/92359
END:VEVENT
END:VCALENDAR
