BEGIN:VCALENDAR
VERSION:2.0
PRODID:icalendar-ruby
CALSCALE:GREGORIAN
METHOD:PUBLISH
BEGIN:VEVENT
DTSTAMP:20260424T050154Z
UID:d81a4984-12fa-4111-8bb8-b7618c5eebb0
DTSTART;VALUE=DATE:20120602
DTEND;VALUE=DATE:20120602
DESCRIPTION:Mag Ridge BMX Park
LOCATION:344 Oldtown Crossing  Ridgeland MS 39157 USA
SUMMARY:Standard Single
URL:/site/bmx_races/92386
END:VEVENT
END:VCALENDAR
