BEGIN:VCALENDAR
VERSION:2.0
PRODID:icalendar-ruby
CALSCALE:GREGORIAN
METHOD:PUBLISH
BEGIN:VEVENT
DTSTAMP:20260421T184602Z
UID:af49cd95-379e-4ba2-a645-cf3c44260743
DTSTART;VALUE=DATE:20120929
DTEND;VALUE=DATE:20120929
DESCRIPTION:Oak Creek BMX
LOCATION:648 Riverside Ave  Roseville CA 95678 USA
SUMMARY:Standard Single
URL:/site/bmx_races/92569
END:VEVENT
END:VCALENDAR
