BEGIN:VCALENDAR
VERSION:2.0
PRODID:icalendar-ruby
CALSCALE:GREGORIAN
METHOD:PUBLISH
BEGIN:VEVENT
DTSTAMP:20260421T214850Z
UID:c4a40c48-da28-4ac1-a75a-303483a62fb8
DTSTART;VALUE=DATE:20120714
DTEND;VALUE=DATE:20120714
DESCRIPTION:Oak Creek BMX
LOCATION:648 Riverside Ave  Roseville CA 95678 USA
SUMMARY:Standard Single
URL:/site/bmx_races/92928
END:VEVENT
END:VCALENDAR
