BEGIN:VCALENDAR
VERSION:2.0
PRODID:icalendar-ruby
CALSCALE:GREGORIAN
METHOD:PUBLISH
BEGIN:VEVENT
DTSTAMP:20260422T052722Z
UID:07671e1c-e15b-4d37-9070-8c542a363b74
DTSTART;VALUE=DATE:20120215
DTEND;VALUE=DATE:20120215
DESCRIPTION:Oak Creek BMX
LOCATION:648 Riverside Ave  Roseville CA 95678 USA
SUMMARY:Standard Single
URL:/site/bmx_races/93249
END:VEVENT
END:VCALENDAR
