BEGIN:VCALENDAR
VERSION:2.0
PRODID:icalendar-ruby
CALSCALE:GREGORIAN
METHOD:PUBLISH
BEGIN:VEVENT
DTSTAMP:20260422T125757Z
UID:25499b54-00b8-433e-b84f-1d86cc74d9e8
DTSTART;VALUE=DATE:20121031
DTEND;VALUE=DATE:20121031
DESCRIPTION:Colorado River BMX
LOCATION:2230 Highland Dr  Bullhead City AZ 86442 USA
SUMMARY:Standard Single
URL:/site/bmx_races/93374
END:VEVENT
END:VCALENDAR
