BEGIN:VCALENDAR
VERSION:2.0
PRODID:icalendar-ruby
CALSCALE:GREGORIAN
METHOD:PUBLISH
BEGIN:VEVENT
DTSTAMP:20260423T092354Z
UID:3078988c-39f5-4c86-a01c-1986577c2162
DTSTART;VALUE=DATE:20120617
DTEND;VALUE=DATE:20120617
DESCRIPTION:Richfield Park BMX
LOCATION:6550 N Irish Road  Davison MI 48423 USA
SUMMARY:Standard Single
URL:/site/bmx_races/93792
END:VEVENT
END:VCALENDAR
