BEGIN:VCALENDAR
VERSION:2.0
PRODID:icalendar-ruby
CALSCALE:GREGORIAN
METHOD:PUBLISH
BEGIN:VEVENT
DTSTAMP:20260419T232118Z
UID:2bcaa3b9-9ef6-49b3-86da-beb0c15e7a47
DTSTART;VALUE=DATE:20120808
DTEND;VALUE=DATE:20120808
DESCRIPTION:Desert Downs BMX
LOCATION:8801 Railroad  El Paso TX 79924 USA
SUMMARY:Standard Single
URL:/site/bmx_races/93796
END:VEVENT
END:VCALENDAR
