BEGIN:VCALENDAR
VERSION:2.0
PRODID:icalendar-ruby
CALSCALE:GREGORIAN
METHOD:PUBLISH
BEGIN:VEVENT
DTSTAMP:20260419T182506Z
UID:307f66f7-8fd4-4ce1-ba83-4f7afc2b62f4
DTSTART;VALUE=DATE:20121006
DTEND;VALUE=DATE:20121006
DESCRIPTION:Whittier Narrows BMX
LOCATION:1601 N Rosemead Blvd  South El Monte CA 91733 USA
SUMMARY:Standard Single
URL:/site/bmx_races/93810
END:VEVENT
END:VCALENDAR
