BEGIN:VCALENDAR
VERSION:2.0
PRODID:icalendar-ruby
CALSCALE:GREGORIAN
METHOD:PUBLISH
BEGIN:VEVENT
DTSTAMP:20260422T144906Z
UID:8f30ee2b-11f5-4787-8b5e-5d73dd6150ba
DTSTART;VALUE=DATE:20120905
DTEND;VALUE=DATE:20120905
DESCRIPTION:Colorado River BMX
LOCATION:2230 Highland Dr  Bullhead City AZ 86442 USA
SUMMARY:Standard Single
URL:/site/bmx_races/94072
END:VEVENT
END:VCALENDAR
