BEGIN:VCALENDAR
VERSION:2.0
PRODID:icalendar-ruby
CALSCALE:GREGORIAN
METHOD:PUBLISH
BEGIN:VEVENT
DTSTAMP:20260423T053104Z
UID:2e0d2223-df2a-41c4-8853-8f142fac68ad
DTSTART;VALUE=DATE:20120701
DTEND;VALUE=DATE:20120701
DESCRIPTION:Westerville BMX
LOCATION:535 Park Meadow Road  Westerville OH 43081 USA
SUMMARY:Standard Single
URL:/site/bmx_races/94263
END:VEVENT
END:VCALENDAR
