BEGIN:VCALENDAR
VERSION:2.0
PRODID:icalendar-ruby
CALSCALE:GREGORIAN
METHOD:PUBLISH
BEGIN:VEVENT
DTSTAMP:20260422T010528Z
UID:9ff928ab-b096-4a6a-a98f-819eb176735c
DTSTART;VALUE=DATE:20120527
DTEND;VALUE=DATE:20120527
DESCRIPTION:Oak Creek BMX
LOCATION:648 Riverside Ave  Roseville CA 95678 USA
SUMMARY:Standard Single
URL:/site/bmx_races/94553
END:VEVENT
END:VCALENDAR
