BEGIN:VCALENDAR
VERSION:2.0
PRODID:icalendar-ruby
CALSCALE:GREGORIAN
METHOD:PUBLISH
BEGIN:VEVENT
DTSTAMP:20260420T225616Z
UID:3eed2273-5c45-49ac-b52a-1c6669a7b2a1
DTSTART;VALUE=DATE:20120810
DTEND;VALUE=DATE:20120810
DESCRIPTION:Carson City BMX
LOCATION:1555 Livermore Ln  Carson City NV 89721 USA
SUMMARY:Standard Single
URL:/site/bmx_races/94641
END:VEVENT
END:VCALENDAR
