BEGIN:VCALENDAR
VERSION:2.0
PRODID:icalendar-ruby
CALSCALE:GREGORIAN
METHOD:PUBLISH
BEGIN:VEVENT
DTSTAMP:20260424T132805Z
UID:c94969d3-51f2-4183-ba34-02f1fc3bb95e
DTSTART;VALUE=DATE:20120415
DTEND;VALUE=DATE:20120415
DESCRIPTION:Nanaimo BMX
LOCATION:2001 Labieux Road  Nanaimo BC V9T 3K7 CAN
SUMMARY:Standard Single
URL:/site/bmx_races/94672
END:VEVENT
END:VCALENDAR
