BEGIN:VCALENDAR
VERSION:2.0
PRODID:icalendar-ruby
CALSCALE:GREGORIAN
METHOD:PUBLISH
BEGIN:VEVENT
DTSTAMP:20260424T193737Z
UID:78e789e8-a338-4ad3-9c9f-ff5ec328ab2b
DTSTART;VALUE=DATE:20120529
DTEND;VALUE=DATE:20120529
DESCRIPTION:Rock City BMX
LOCATION:3300 10 Mile Road  Rockford MI 49341 USA
SUMMARY:Standard Single
URL:/site/bmx_races/94841
END:VEVENT
END:VCALENDAR
