BEGIN:VCALENDAR
VERSION:2.0
PRODID:icalendar-ruby
CALSCALE:GREGORIAN
METHOD:PUBLISH
BEGIN:VEVENT
DTSTAMP:20260423T194921Z
UID:503c4a04-012b-45d8-9e09-585b2ad0ef06
DTSTART;VALUE=DATE:20121026
DTEND;VALUE=DATE:20121026
DESCRIPTION:San Diego BMX
LOCATION:3170 Armstrong Street Behind Kearny Mesa Recreation Center San Die
 go CA 92111 USA
SUMMARY:Standard Single
URL:/site/bmx_races/94905
END:VEVENT
END:VCALENDAR
