BEGIN:VCALENDAR
VERSION:2.0
PRODID:icalendar-ruby
CALSCALE:GREGORIAN
METHOD:PUBLISH
BEGIN:VEVENT
DTSTAMP:20260422T194536Z
UID:df2674ee-694d-4ea3-bf1d-92edc0dd92bd
DTSTART;VALUE=DATE:20121125
DTEND;VALUE=DATE:20121125
DESCRIPTION:Reno Battleborn BMX
LOCATION:Sun Valley Gid Community Park 115 W 6th Ave Sun Valley NV 89433 US
 A
SUMMARY:Standard Single
URL:/site/bmx_races/94992
END:VEVENT
END:VCALENDAR
