BEGIN:VCALENDAR
VERSION:2.0
PRODID:icalendar-ruby
CALSCALE:GREGORIAN
METHOD:PUBLISH
BEGIN:VEVENT
DTSTAMP:20260424T014030Z
UID:442875ef-1af3-4820-8001-4576db40a7ef
DTSTART;VALUE=DATE:20120601
DTEND;VALUE=DATE:20120601
DESCRIPTION:San Diego BMX
LOCATION:3170 Armstrong Street Behind Kearny Mesa Recreation Center San Die
 go CA 92111 USA
SUMMARY:Standard Single
URL:/site/bmx_races/95569
END:VEVENT
END:VCALENDAR
