BEGIN:VCALENDAR
VERSION:2.0
PRODID:icalendar-ruby
CALSCALE:GREGORIAN
METHOD:PUBLISH
BEGIN:VEVENT
DTSTAMP:20260425T135953Z
UID:97fa3e21-3458-4cca-95b8-30c0eedcf5b7
DTSTART;VALUE=DATE:20120713
DTEND;VALUE=DATE:20120713
DESCRIPTION:Redwood Empire BMX
LOCATION:201 Vance Ave  Samoa CA 95564 USA
SUMMARY:Standard Single
URL:/site/bmx_races/95616
END:VEVENT
END:VCALENDAR
