BEGIN:VCALENDAR
VERSION:2.0
PRODID:icalendar-ruby
CALSCALE:GREGORIAN
METHOD:PUBLISH
BEGIN:VEVENT
DTSTAMP:20260425T132353Z
UID:e0929ba1-7d0a-4a11-b464-f66fb6c01b63
DTSTART;VALUE=DATE:20120225
DTEND;VALUE=DATE:20120225
DESCRIPTION:Sandy Ridge BMX
LOCATION:1200 Keys Ferry Rd  McDonough GA 30253 USA
SUMMARY:Standard Single
URL:/site/bmx_races/95731
END:VEVENT
END:VCALENDAR
