BEGIN:VCALENDAR
VERSION:2.0
PRODID:icalendar-ruby
CALSCALE:GREGORIAN
METHOD:PUBLISH
BEGIN:VEVENT
DTSTAMP:20260425T135947Z
UID:7a8858ad-83c2-4d0c-937c-d7dd2ca7ab59
DTSTART;VALUE=DATE:20120727
DTEND;VALUE=DATE:20120727
DESCRIPTION:Redwood Empire BMX
LOCATION:201 Vance Ave  Samoa CA 95564 USA
SUMMARY:Standard Single
URL:/site/bmx_races/96839
END:VEVENT
END:VCALENDAR
