BEGIN:VCALENDAR
VERSION:2.0
PRODID:icalendar-ruby
CALSCALE:GREGORIAN
METHOD:PUBLISH
BEGIN:VEVENT
DTSTAMP:20260424T103433Z
UID:125bd446-6f9b-4c6f-b765-b79f217ec01f
DTSTART;VALUE=DATE:20120606
DTEND;VALUE=DATE:20120606
DESCRIPTION:Nanaimo BMX
LOCATION:2001 Labieux Road  Nanaimo BC V9T 3K7 CAN
SUMMARY:Standard Single
URL:/site/bmx_races/96903
END:VEVENT
END:VCALENDAR
