BEGIN:VCALENDAR
VERSION:2.0
PRODID:icalendar-ruby
CALSCALE:GREGORIAN
METHOD:PUBLISH
BEGIN:VEVENT
DTSTAMP:20260424T182009Z
UID:45c57d55-f3ce-4071-8f56-9174829a8e04
DTSTART;VALUE=DATE:20120612
DTEND;VALUE=DATE:20120612
DESCRIPTION:Rock City BMX
LOCATION:3300 10 Mile Road  Rockford MI 49341 USA
SUMMARY:Standard Single
URL:/site/bmx_races/97702
END:VEVENT
END:VCALENDAR
