BEGIN:VCALENDAR
VERSION:2.0
PRODID:icalendar-ruby
CALSCALE:GREGORIAN
METHOD:PUBLISH
BEGIN:VEVENT
DTSTAMP:20260424T034808Z
UID:26805e05-f442-4867-87cd-ed756bd0f6d2
DTSTART;VALUE=DATE:20120604
DTEND;VALUE=DATE:20120604
DESCRIPTION:Fastrax BMX
LOCATION:2800 S 12th St  Bismarck ND 58504 USA
SUMMARY:Standard Single
URL:/site/bmx_races/97726
END:VEVENT
END:VCALENDAR
