BEGIN:VCALENDAR
VERSION:2.0
PRODID:icalendar-ruby
CALSCALE:GREGORIAN
METHOD:PUBLISH
BEGIN:VEVENT
DTSTAMP:20260426T005530Z
UID:65bafc28-b66a-4c20-a161-8691e85692c1
DTSTART;VALUE=DATE:20120721
DTEND;VALUE=DATE:20120721
DESCRIPTION:Catamount BMX
LOCATION:Willow Park  472 East Rd Bennington VT 05201 USA
SUMMARY:Standard Single
URL:/site/bmx_races/98216
END:VEVENT
END:VCALENDAR
