BEGIN:VCALENDAR
VERSION:2.0
PRODID:icalendar-ruby
CALSCALE:GREGORIAN
METHOD:PUBLISH
BEGIN:VEVENT
DTSTAMP:20260425T004807Z
UID:4bec3665-adfb-43df-b955-82072d663942
DTSTART;VALUE=DATE:20120324
DTEND;VALUE=DATE:20120324
DESCRIPTION:Lexington BMX
LOCATION:1159 Nazareth Road  Lexington SC 29073 USA
SUMMARY:Standard Double
URL:/site/bmx_races/98652
END:VEVENT
END:VCALENDAR
