BEGIN:VCALENDAR
VERSION:2.0
PRODID:icalendar-ruby
CALSCALE:GREGORIAN
METHOD:PUBLISH
BEGIN:VEVENT
DTSTAMP:20260423T135917Z
UID:8f02c0b4-0ca5-4eb0-ade0-328d862cfd41
DTSTART;VALUE=DATE:20120817
DTEND;VALUE=DATE:20120817
DESCRIPTION:Apple Valley BMX Moto Park
LOCATION:24320 Highway 18  Apple Valley CA 92307 USA
SUMMARY:Standard Single
URL:/site/bmx_races/98693
END:VEVENT
END:VCALENDAR
