BEGIN:VCALENDAR
VERSION:2.0
PRODID:icalendar-ruby
CALSCALE:GREGORIAN
METHOD:PUBLISH
BEGIN:VEVENT
DTSTAMP:20260424T001017Z
UID:9f79c494-6142-4056-9fec-e9e97381bb25
DTSTART;VALUE=DATE:20120722
DTEND;VALUE=DATE:20120722
DESCRIPTION:San Diego BMX
LOCATION:3170 Armstrong Street Behind Kearny Mesa Recreation Center San Die
 go CA 92111 USA
SUMMARY:Standard Single
URL:/site/bmx_races/98829
END:VEVENT
END:VCALENDAR
