BEGIN:VCALENDAR
VERSION:2.0
PRODID:icalendar-ruby
CALSCALE:GREGORIAN
METHOD:PUBLISH
BEGIN:VEVENT
DTSTAMP:20260422T212610Z
UID:427e6035-8e47-4af1-9bfa-a874ae58a961
DTSTART;VALUE=DATE:20120523
DTEND;VALUE=DATE:20120523
DESCRIPTION:Colorado River BMX
LOCATION:2230 Highland Dr  Bullhead City AZ 86442 USA
SUMMARY:Standard Single
URL:/site/bmx_races/99117
END:VEVENT
END:VCALENDAR
