BEGIN:VCALENDAR
VERSION:2.0
PRODID:icalendar-ruby
CALSCALE:GREGORIAN
METHOD:PUBLISH
BEGIN:VEVENT
DTSTAMP:20260425T035434Z
UID:ba8170ec-03e7-46fa-ac3b-2e9007ad0a9a
DTSTART;VALUE=DATE:20120408
DTEND;VALUE=DATE:20120408
DESCRIPTION:Seatac BMX
LOCATION:1855 S 136th St  Sea Tac WA 98168 USA
SUMMARY:Standard Single
URL:/site/bmx_races/99478
END:VEVENT
END:VCALENDAR
