BEGIN:VCALENDAR
VERSION:2.0
PRODID:icalendar-ruby
CALSCALE:GREGORIAN
METHOD:PUBLISH
BEGIN:VEVENT
DTSTAMP:20260423T070230Z
UID:16a6305f-39ce-4362-801e-86c7c6a43b28
DTSTART;VALUE=DATE:20120731
DTEND;VALUE=DATE:20120731
DESCRIPTION:Charlie`s BMX Track\, Inc.
LOCATION:4400 1/2 Dutch Hollow Rd  Ellery Center NY 14767 USA
SUMMARY:Standard Single
URL:/site/bmx_races/99516
END:VEVENT
END:VCALENDAR
