BEGIN:VCALENDAR
VERSION:2.0
PRODID:icalendar-ruby
CALSCALE:GREGORIAN
METHOD:PUBLISH
BEGIN:VEVENT
DTSTAMP:20260425T004833Z
UID:9b126999-2e12-4783-af1f-af9370bb7a86
DTSTART;VALUE=DATE:20120318
DTEND;VALUE=DATE:20120318
DESCRIPTION:Lexington BMX
LOCATION:1159 Nazareth Road  Lexington SC 29073 USA
SUMMARY:Standard Single
URL:/site/bmx_races/99540
END:VEVENT
END:VCALENDAR
