BEGIN:VCALENDAR
VERSION:2.0
PRODID:icalendar-ruby
CALSCALE:GREGORIAN
METHOD:PUBLISH
BEGIN:VEVENT
DTSTAMP:20260425T153324Z
UID:ec274035-6243-4f4a-a510-3353a61f463e
DTSTART;VALUE=DATE:20120515
DTEND;VALUE=DATE:20120515
DESCRIPTION:Elkhorn BMX
LOCATION:848 Elkhorn Blvd  Rio Linda CA 95673 USA
SUMMARY:Standard Single
URL:/site/bmx_races/99566
END:VEVENT
END:VCALENDAR
